




BEGIN:VCALENDAR
VERSION:2.0
PRODID:-//Trumpington Allotment Society - ECPv6.15.20//NONSGML v1.0//EN
CALSCALE:GREGORIAN
METHOD:PUBLISH
X-ORIGINAL-URL:https://trumpingtonallotments.org
X-WR-CALDESC:Events for Trumpington Allotment Society
REFRESH-INTERVAL;VALUE=DURATION:PT1H
X-Robots-Tag:noindex
X-PUBLISHED-TTL:PT1H
BEGIN:VTIMEZONE
TZID:Europe/London
BEGIN:DAYLIGHT
TZOFFSETFROM:+0000
TZOFFSETTO:+0100
TZNAME:BST
DTSTART:20170326T010000
END:DAYLIGHT
BEGIN:STANDARD
TZOFFSETFROM:+0100
TZOFFSETTO:+0000
TZNAME:GMT
DTSTART:20171029T010000
END:STANDARD
BEGIN:DAYLIGHT
TZOFFSETFROM:+0000
TZOFFSETTO:+0100
TZNAME:BST
DTSTART:20180325T010000
END:DAYLIGHT
BEGIN:STANDARD
TZOFFSETFROM:+0100
TZOFFSETTO:+0000
TZNAME:GMT
DTSTART:20181028T010000
END:STANDARD
BEGIN:DAYLIGHT
TZOFFSETFROM:+0000
TZOFFSETTO:+0100
TZNAME:BST
DTSTART:20190331T010000
END:DAYLIGHT
BEGIN:STANDARD
TZOFFSETFROM:+0100
TZOFFSETTO:+0000
TZNAME:GMT
DTSTART:20191027T010000
END:STANDARD
BEGIN:DAYLIGHT
TZOFFSETFROM:+0000
TZOFFSETTO:+0100
TZNAME:BST
DTSTART:20200329T010000
END:DAYLIGHT
BEGIN:STANDARD
TZOFFSETFROM:+0100
TZOFFSETTO:+0000
TZNAME:GMT
DTSTART:20201025T010000
END:STANDARD
BEGIN:DAYLIGHT
TZOFFSETFROM:+0000
TZOFFSETTO:+0100
TZNAME:BST
DTSTART:20210328T010000
END:DAYLIGHT
BEGIN:STANDARD
TZOFFSETFROM:+0100
TZOFFSETTO:+0000
TZNAME:GMT
DTSTART:20211031T010000
END:STANDARD
BEGIN:DAYLIGHT
TZOFFSETFROM:+0000
TZOFFSETTO:+0100
TZNAME:BST
DTSTART:20220327T010000
END:DAYLIGHT
BEGIN:STANDARD
TZOFFSETFROM:+0100
TZOFFSETTO:+0000
TZNAME:GMT
DTSTART:20221030T010000
END:STANDARD
BEGIN:DAYLIGHT
TZOFFSETFROM:+0000
TZOFFSETTO:+0100
TZNAME:BST
DTSTART:20230326T010000
END:DAYLIGHT
BEGIN:STANDARD
TZOFFSETFROM:+0100
TZOFFSETTO:+0000
TZNAME:GMT
DTSTART:20231029T010000
END:STANDARD
END:VTIMEZONE
BEGIN:VEVENT
DTSTART;TZID=Europe/London:20220601T193000
DTEND;TZID=Europe/London:20220601T210000
DTSTAMP:20260421T041844
CREATED:20220107T080407Z
LAST-MODIFIED:20220107T090614Z
UID:1547-1654111800-1654117200@trumpingtonallotments.org
SUMMARY:Committee meeting June 2022
DESCRIPTION:
URL:https://trumpingtonallotments.org/event/committee-meeting-june-2022/
CATEGORIES:meetings
ORGANIZER;CN="Trumpington Allotment Society":MAILTO:info@trumpingtonallotments.org
END:VEVENT
BEGIN:VEVENT
DTSTART;TZID=Europe/London:20220302T193000
DTEND;TZID=Europe/London:20220302T210000
DTSTAMP:20260421T041844
CREATED:20220107T080523Z
LAST-MODIFIED:20220107T090637Z
UID:1549-1646249400-1646254800@trumpingtonallotments.org
SUMMARY:Committee meeting March 2022
DESCRIPTION:
URL:https://trumpingtonallotments.org/event/committee-meeting-march-2022/
CATEGORIES:meetings
ORGANIZER;CN="Trumpington Allotment Society":MAILTO:info@trumpingtonallotments.org
END:VEVENT
BEGIN:VEVENT
DTSTART;TZID=Europe/London:20220226T103000
DTEND;TZID=Europe/London:20220226T120000
DTSTAMP:20260421T041844
CREATED:20220107T081131Z
LAST-MODIFIED:20220107T090831Z
UID:1551-1645871400-1645876800@trumpingtonallotments.org
SUMMARY:Annual General Meeting 2022
DESCRIPTION:All paid-up members should receive their meeting notice & agenda along with our Spring newsletter by 12th February. \nWe send all this by email unless we do not have your email address\, in which case we must post it to you. Please help us to reduce costs by providing your email address if you have one and check it frequently. \nIt is not clear that we will be able to meet in-person due to the uncertainty around Covid risk and changing regulations. If not\, the meeting will be online on Zoom. Watch out for details with your meeting notice.
URL:https://trumpingtonallotments.org/event/annual-general-meeting-2022/
LOCATION:Trumpington Pavilion\, Trumpington Pavilion\, Paget Road\, Trumpington\, Cambridge\, CB2 9JF\, United Kingdom
CATEGORIES:meetings
ORGANIZER;CN="Trumpington Allotment Society":MAILTO:info@trumpingtonallotments.org
END:VEVENT
BEGIN:VEVENT
DTSTART;TZID=Europe/London:20211201T193000
DTEND;TZID=Europe/London:20211201T210000
DTSTAMP:20260421T041844
CREATED:20210103T150657Z
LAST-MODIFIED:20210103T150657Z
UID:1233-1638387000-1638392400@trumpingtonallotments.org
SUMMARY:Committee meeting December 2021
DESCRIPTION:
URL:https://trumpingtonallotments.org/event/committee-meeting-december-2021/
CATEGORIES:meetings
ORGANIZER;CN="Trumpington Allotment Society":MAILTO:info@trumpingtonallotments.org
END:VEVENT
BEGIN:VEVENT
DTSTART;TZID=Europe/London:20210901T193000
DTEND;TZID=Europe/London:20210901T210000
DTSTAMP:20260421T041844
CREATED:20210103T150557Z
LAST-MODIFIED:20210103T150557Z
UID:1231-1630524600-1630530000@trumpingtonallotments.org
SUMMARY:Committee meeting September 2021
DESCRIPTION:
URL:https://trumpingtonallotments.org/event/committee-meeting-september-2021/
CATEGORIES:meetings
ORGANIZER;CN="Trumpington Allotment Society":MAILTO:info@trumpingtonallotments.org
END:VEVENT
BEGIN:VEVENT
DTSTART;TZID=Europe/London:20210602T193000
DTEND;TZID=Europe/London:20210602T210000
DTSTAMP:20260421T041844
CREATED:20210103T145204Z
LAST-MODIFIED:20210103T145204Z
UID:1227-1622662200-1622667600@trumpingtonallotments.org
SUMMARY:Committee meeting June 2021
DESCRIPTION:
URL:https://trumpingtonallotments.org/event/committee-meeting-june-2021/
CATEGORIES:meetings
ORGANIZER;CN="Trumpington Allotment Society":MAILTO:info@trumpingtonallotments.org
END:VEVENT
BEGIN:VEVENT
DTSTART;TZID=Europe/London:20210303T193000
DTEND;TZID=Europe/London:20210303T210000
DTSTAMP:20260421T041844
CREATED:20210103T145107Z
LAST-MODIFIED:20210103T145107Z
UID:1225-1614799800-1614805200@trumpingtonallotments.org
SUMMARY:Committee meeting March 2021
DESCRIPTION:
URL:https://trumpingtonallotments.org/event/committee-meeting-march-2021/
CATEGORIES:meetings
ORGANIZER;CN="Trumpington Allotment Society":MAILTO:info@trumpingtonallotments.org
END:VEVENT
BEGIN:VEVENT
DTSTART;TZID=Europe/London:20210227T103000
DTEND;TZID=Europe/London:20210227T120000
DTSTAMP:20260421T041844
CREATED:20210103T145744Z
LAST-MODIFIED:20210103T150735Z
UID:1229-1614421800-1614427200@trumpingtonallotments.org
SUMMARY:Annual General Meeting 2021
DESCRIPTION:All paid-up members should receive their meeting notice & agenda along with our Spring newsletter by 13th February. \nWe send all this by email unless we do not have your email address\, in which case we must post it to you. Please help us to reduce costs by providing your email address if you have one and check it frequently. \nIt is not clear that we will be able to meet in-person due to the uncertainty around Covid risk and changing regulations. In any case we will make the meeting available online\, somehow. Watch out for details with your meeting notice.
URL:https://trumpingtonallotments.org/event/annual-general-meeting-2021/
LOCATION:Trumpington Pavilion\, Trumpington Pavilion\, Paget Road\, Trumpington\, Cambridge\, CB2 9JF\, United Kingdom
CATEGORIES:meetings,Members' events
ORGANIZER;CN="Trumpington Allotment Society":MAILTO:info@trumpingtonallotments.org
END:VEVENT
BEGIN:VEVENT
DTSTART;TZID=Europe/London:20201202T193000
DTEND;TZID=Europe/London:20201202T210000
DTSTAMP:20260421T041844
CREATED:20200104T185848Z
LAST-MODIFIED:20200104T185848Z
UID:1112-1606937400-1606942800@trumpingtonallotments.org
SUMMARY:Committee meeting December 2020
DESCRIPTION:
URL:https://trumpingtonallotments.org/event/committee-meeting-december-2020/
CATEGORIES:meetings
ORGANIZER;CN="Trumpington Allotment Society":MAILTO:info@trumpingtonallotments.org
END:VEVENT
BEGIN:VEVENT
DTSTART;TZID=Europe/London:20200903T193000
DTEND;TZID=Europe/London:20200903T210000
DTSTAMP:20260421T041844
CREATED:20200104T185723Z
LAST-MODIFIED:20200104T185723Z
UID:1110-1599161400-1599166800@trumpingtonallotments.org
SUMMARY:Committee meeting September 2020
DESCRIPTION:
URL:https://trumpingtonallotments.org/event/committee-meeting-september-2020/
CATEGORIES:meetings
ORGANIZER;CN="Trumpington Allotment Society":MAILTO:info@trumpingtonallotments.org
END:VEVENT
BEGIN:VEVENT
DTSTART;TZID=Europe/London:20200603T193000
DTEND;TZID=Europe/London:20200603T210000
DTSTAMP:20260421T041844
CREATED:20200104T185610Z
LAST-MODIFIED:20200104T185610Z
UID:1108-1591212600-1591218000@trumpingtonallotments.org
SUMMARY:Committee meeting June 2020
DESCRIPTION:
URL:https://trumpingtonallotments.org/event/committee-meeting-june-2020/
LOCATION:Trading Hut\, Trumpington Allotment Society\, Foster Road\, Cambridge\, United Kingdom
CATEGORIES:meetings
ORGANIZER;CN="Trumpington Allotment Society":MAILTO:info@trumpingtonallotments.org
END:VEVENT
BEGIN:VEVENT
DTSTART;TZID=Europe/London:20200304T193000
DTEND;TZID=Europe/London:20200304T210000
DTSTAMP:20260421T041844
CREATED:20200104T185505Z
LAST-MODIFIED:20200104T185505Z
UID:1106-1583350200-1583355600@trumpingtonallotments.org
SUMMARY:Committee meeting March 2020
DESCRIPTION:
URL:https://trumpingtonallotments.org/event/committee-meeting-march-2020/
CATEGORIES:meetings
ORGANIZER;CN="Trumpington Allotment Society":MAILTO:info@trumpingtonallotments.org
END:VEVENT
BEGIN:VEVENT
DTSTART;TZID=Europe/London:20200229T103000
DTEND;TZID=Europe/London:20200229T120000
DTSTAMP:20260421T041844
CREATED:20200104T185122Z
LAST-MODIFIED:20200104T190241Z
UID:1104-1582972200-1582977600@trumpingtonallotments.org
SUMMARY:Annual General Meeting 2020
DESCRIPTION:All paid-up members should receive their meeting notice & agenda along with our Spring newsletter by 15th February. \nWe send all this by email unless we don’t have your email address\, in which case we must post it to you. Please help us to reduce costs by providing your email address if you have one and check it frequently.
URL:https://trumpingtonallotments.org/event/annual-general-meeting-2020/
LOCATION:Trumpington Pavilion\, Trumpington Pavilion\, Paget Road\, Trumpington\, Cambridge\, CB2 9JF\, United Kingdom
CATEGORIES:meetings,Members' events
ORGANIZER;CN="Trumpington Allotment Society":MAILTO:info@trumpingtonallotments.org
END:VEVENT
BEGIN:VEVENT
DTSTART;TZID=Europe/London:20191204T193000
DTEND;TZID=Europe/London:20191204T210000
DTSTAMP:20260421T041844
CREATED:20181203T220017Z
LAST-MODIFIED:20181203T220135Z
UID:863-1575487800-1575493200@trumpingtonallotments.org
SUMMARY:Committee meeting December 2019
DESCRIPTION:
URL:https://trumpingtonallotments.org/event/committee-meeting-december-2019/
CATEGORIES:meetings
ORGANIZER;CN="Trumpington Allotment Society (Seedy Sunday)":MAILTO:seedysunday@trumpingtonallotments.org
END:VEVENT
BEGIN:VEVENT
DTSTART;TZID=Europe/London:20190904T193000
DTEND;TZID=Europe/London:20190904T210000
DTSTAMP:20260421T041844
CREATED:20181203T215838Z
LAST-MODIFIED:20181203T215838Z
UID:861-1567625400-1567630800@trumpingtonallotments.org
SUMMARY:Committee meeting September 2019
DESCRIPTION:
URL:https://trumpingtonallotments.org/event/committee-meeting-september-2019/
LOCATION:Trading Hut\, Trumpington Allotment Society\, Foster Road\, Cambridge\, United Kingdom
CATEGORIES:meetings
ORGANIZER;CN="Trumpington Allotment Society (Seedy Sunday)":MAILTO:seedysunday@trumpingtonallotments.org
END:VEVENT
BEGIN:VEVENT
DTSTART;TZID=Europe/London:20190605T193000
DTEND;TZID=Europe/London:20190605T210000
DTSTAMP:20260421T041844
CREATED:20181128T165306Z
LAST-MODIFIED:20181203T214805Z
UID:724-1559763000-1559768400@trumpingtonallotments.org
SUMMARY:Committee meeting June 2019
DESCRIPTION:
URL:https://trumpingtonallotments.org/event/committee-meeting-june-2019/
LOCATION:Trading Hut\, Trumpington Allotment Society\, Foster Road\, Cambridge\, United Kingdom
CATEGORIES:meetings
ORGANIZER;CN="Trumpington Allotment Society (Seedy Sunday)":MAILTO:seedysunday@trumpingtonallotments.org
END:VEVENT
BEGIN:VEVENT
DTSTART;TZID=Europe/London:20190306T193000
DTEND;TZID=Europe/London:20190306T210000
DTSTAMP:20260421T041844
CREATED:20181123T235748Z
LAST-MODIFIED:20181203T214829Z
UID:599-1551900600-1551906000@trumpingtonallotments.org
SUMMARY:Committee meeting March 2019
DESCRIPTION:
URL:https://trumpingtonallotments.org/event/committee-meeting-march-2019/
CATEGORIES:meetings
END:VEVENT
BEGIN:VEVENT
DTSTART;TZID=Europe/London:20190302T103000
DTEND;TZID=Europe/London:20190302T120000
DTSTAMP:20260421T041844
CREATED:20181102T230031Z
LAST-MODIFIED:20181203T214854Z
UID:582-1551522600-1551528000@trumpingtonallotments.org
SUMMARY:Annual General Meeting 2019
DESCRIPTION:
URL:https://trumpingtonallotments.org/event/annual-general-meeting-2019/
LOCATION:Trumpington Pavilion\, Trumpington Pavilion\, Paget Road\, Trumpington\, Cambridge\, CB2 9JF\, United Kingdom
CATEGORIES:meetings
ORGANIZER;CN="Trumpington Allotment Society":MAILTO:info@trumpingtonallotments.org
END:VEVENT
BEGIN:VEVENT
DTSTART;TZID=Europe/London:20181205T193000
DTEND;TZID=Europe/London:20181205T210000
DTSTAMP:20260421T041844
CREATED:20181123T235602Z
LAST-MODIFIED:20181203T220045Z
UID:597-1544038200-1544043600@trumpingtonallotments.org
SUMMARY:Committee meeting December 2018
DESCRIPTION:
URL:https://trumpingtonallotments.org/event/committee-meeting-december-2018/
CATEGORIES:meetings
END:VEVENT
END:VCALENDAR